BEGIN:VCALENDAR
VERSION:2.0
PRODID:-//Tukios.com/
BEGIN:VEVENT
UID:b4aa56ac-4bdf-4689-a17a-5820f32ef514@www.jonesmortuaryllc.com
DTSTAMP:20260423T011928Z
DTSTART:20260424T180000Z
DTEND:20260424T190000Z
SUMMARY:Graveside Service
DESCRIPTION:
URL:https://www.jonesmortuaryllc.com/obituaries/eugene-webb
LOCATION:  Edgemoor Rd   TN 
GEO:36.0223958;-84.1583359
END:VEVENT
END:VCALENDAR